BEGIN:VCALENDAR
VERSION:2.0
PRODID:-//Rheinlands Reiter+Pferde - ECPv6.15.17//NONSGML v1.0//EN
CALSCALE:GREGORIAN
METHOD:PUBLISH
X-ORIGINAL-URL:https://reiter-pferde.de
X-WR-CALDESC:Veranstaltungen für Rheinlands Reiter+Pferde
REFRESH-INTERVAL;VALUE=DURATION:PT1H
X-Robots-Tag:noindex
X-PUBLISHED-TTL:PT1H
BEGIN:VTIMEZONE
TZID:Europe/Berlin
BEGIN:DAYLIGHT
TZOFFSETFROM:+0100
TZOFFSETTO:+0200
TZNAME:CEST
DTSTART:20220327T010000
END:DAYLIGHT
BEGIN:STANDARD
TZOFFSETFROM:+0200
TZOFFSETTO:+0100
TZNAME:CET
DTSTART:20221030T010000
END:STANDARD
BEGIN:DAYLIGHT
TZOFFSETFROM:+0100
TZOFFSETTO:+0200
TZNAME:CEST
DTSTART:20230326T010000
END:DAYLIGHT
BEGIN:STANDARD
TZOFFSETFROM:+0200
TZOFFSETTO:+0100
TZNAME:CET
DTSTART:20231029T010000
END:STANDARD
BEGIN:DAYLIGHT
TZOFFSETFROM:+0100
TZOFFSETTO:+0200
TZNAME:CEST
DTSTART:20240331T010000
END:DAYLIGHT
BEGIN:STANDARD
TZOFFSETFROM:+0200
TZOFFSETTO:+0100
TZNAME:CET
DTSTART:20241027T010000
END:STANDARD
END:VTIMEZONE
BEGIN:VEVENT
DTSTART;VALUE=DATE:20231104
DTEND;VALUE=DATE:20231106
DTSTAMP:20260421T031854
CREATED:20230728T064925Z
LAST-MODIFIED:20230728T064925Z
UID:9343-1699056000-1699228799@reiter-pferde.de
SUMMARY:Rheinland Akademie Voltigieren
DESCRIPTION:Nach der langen Corona Pause und Anpassung der Veranstaltung wird aus „Voltigieren auf Gut Langfort“ die „Rheinland Akademie Voltigieren“. Nachdem während Corona die „Rheinland Online Akademie Voltigieren“ erfolgreich ins Leben gerufen wurde\, soll dieses Konzept auch „offline“ ausgeweitet werden. \nErstmalig im Jahre 2014 durchgeführt soll die Veranstaltung nun wieder fester Bestandteil im Rheinischen Voltigierkalender werden. Und damit es nicht langweilig wird\, hat sich das Organisationsteam auch in diesem Jahr wieder ein abwechslungs- und lehrreiches dennoch deutlich kleineres Programm ausgedacht. Bei den Themen und Referenten finden sich sowohl „altbewährte“ Dauerbrenner als auch neue Beiträge\, so dass das zweitägige Event auch für Teilnehmer\, die schon öfter dabei waren\, neuen Input liefern wird. \nDas Angebot richtet sich an alle Voltigiersport-Interessierten – sowohl für aktive Voltigierer als auch für Trainer\, Longenführer\, Ausbilder und Turnierfachleute hat die Veranstaltung viel zu bieten. Freuen darf man sich auf Workshops\, bei denen man sich auspowern und das Gelernte sofort umsetzen kann\, als auch auf informative und spannende Theorie-Vorträge. \nFür Samstagnachmittag ist wie gewohnt das Ausbildertreffen angesetzt. Hiernach soll am Samstagabend mit der gesamten Voltigierszene der Abschluss eines erfolgreichen Jahres gefeiert. Es werden die Gewinner der Junior Trophy sowie der Sieger des Rheinischen Voltigiercups geehrt. Die Ehrungen werden begleitet von einem gemütlichen Beisammensein bei dem das leibliche Wohl nicht zu kurz kommt. \n  \nDas Organisationsteam arbeitet gerade mit Hochdruck an der Programmerstellung\, weitere Informationen finden Sie unter: Voltigieren auf Gut Langfort (psvr-online.de)
URL:https://reiter-pferde.de/termin/rheinland-akademie-voltigieren/
CATEGORIES:Seminare,Training
END:VEVENT
END:VCALENDAR